BEGIN:VCALENDAR
VERSION:2.0
PRODID:-//The Cookery Fort Worth - ECPv6.15.14//NONSGML v1.0//EN
CALSCALE:GREGORIAN
METHOD:PUBLISH
X-WR-CALNAME:The Cookery Fort Worth
X-ORIGINAL-URL:https://www.thecookeryfortworth.com
X-WR-CALDESC:Events for The Cookery Fort Worth
REFRESH-INTERVAL;VALUE=DURATION:PT1H
X-Robots-Tag:noindex
X-PUBLISHED-TTL:PT1H
BEGIN:VTIMEZONE
TZID:America/Chicago
BEGIN:DAYLIGHT
TZOFFSETFROM:-0600
TZOFFSETTO:-0500
TZNAME:CDT
DTSTART:20250309T080000
END:DAYLIGHT
BEGIN:STANDARD
TZOFFSETFROM:-0500
TZOFFSETTO:-0600
TZNAME:CST
DTSTART:20251102T070000
END:STANDARD
BEGIN:DAYLIGHT
TZOFFSETFROM:-0600
TZOFFSETTO:-0500
TZNAME:CDT
DTSTART:20260308T080000
END:DAYLIGHT
BEGIN:STANDARD
TZOFFSETFROM:-0500
TZOFFSETTO:-0600
TZNAME:CST
DTSTART:20261101T070000
END:STANDARD
BEGIN:DAYLIGHT
TZOFFSETFROM:-0600
TZOFFSETTO:-0500
TZNAME:CDT
DTSTART:20270314T080000
END:DAYLIGHT
BEGIN:STANDARD
TZOFFSETFROM:-0500
TZOFFSETTO:-0600
TZNAME:CST
DTSTART:20271107T070000
END:STANDARD
END:VTIMEZONE
BEGIN:VEVENT
DTSTART;TZID=America/Chicago:20260327T183000
DTEND;TZID=America/Chicago:20260327T213000
DTSTAMP:20260420T031435
CREATED:20260122T172301Z
LAST-MODIFIED:20260323T173729Z
UID:10000901-1774636200-1774647000@www.thecookeryfortworth.com
SUMMARY:Sushi Arigato
DESCRIPTION:First Course:\nSautéed Sesame Shishito Peppers\nFreshly Sliced Salmon Sashimi + Homemade Ponzu Sauce\nStuffed Inari Pockets\nHomemade Dashi Stock Miso Soup\n\nSecond Course:\nSpicy Tuna Two Ways + Poke\nEndless Maki Rolls\, Inside Out Rolls\, & Hand Rolls\nShrimp Nigiri\nSurimi (Krab)\, Yellowfin Tuna\, Salmon &  Assorted Vegetables\nGinger & Wasabi\n\nTo Drink:\nWine\, Japanese Beer & Sake\n\n*This class contains Shellfish and Gluten*
URL:https://www.thecookeryfortworth.com/event/sushi-arigato-3-27-26
LOCATION:The Cookery Fort Worth\, 710 S Main St #130\, Fort Worth\, TX\, 76104\, United States
CATEGORIES:International
ATTACH;FMTTYPE=image/webp:https://www.thecookeryfortworth.com/wp-content/uploads/Sushi-Arigato.webp
END:VEVENT
END:VCALENDAR